BEGIN:VCALENDAR
VERSION:2.0
PRODID:SchoolNow
CALSCALE:GREGORIAN
BEGIN:VEVENT
UID:5295a878-190b-11ef-8b59-02c6925ca189
DTSTAMP:20240523T134949Z
SUMMARY:Troupe class trip
URL;VALUE=URI:https://www.hunterdonprep.org/calendar/6016791/troupe-class-t
 rip
DTSTART:20240603T130000Z
DTEND:20240603T163000Z
END:VEVENT
END:VCALENDAR
