BEGIN:VCALENDAR
VERSION:2.0
PRODID:SchoolNow
CALSCALE:GREGORIAN
BEGIN:VEVENT
UID:0f554cbc-190b-11ef-a2b9-0e40dcac0657
DTSTAMP:20240523T135005Z
SUMMARY:Senior class trips (5/28\, 5/29\, 5/30)
URL;VALUE=URI:https://www.hunterdonprep.org/calendar/6016790/senior-class-t
 rips-5-28-5-29-5-30
DTSTART;VALUE=DATE:20240528
DTEND;VALUE=DATE:20240531
END:VEVENT
END:VCALENDAR
