BEGIN:VCALENDAR
VERSION:2.0
PRODID:SchoolNow
CALSCALE:GREGORIAN
BEGIN:VEVENT
UID:2b638d40-08aa-11ef-92fb-0a58a9feac02
DTSTAMP:20240502T173403Z
SUMMARY:Early dismissal at 12:30 on June 17 & 18
URL;VALUE=URI:https://www.hunterdonprep.org/calendar/5900771/early-dismissa
 l-at-12-30-on-june-17-18
DTSTART;VALUE=DATE:20240617
DTEND;VALUE=DATE:20240619
END:VEVENT
END:VCALENDAR
