BEGIN:VCALENDAR
VERSION:2.0
PRODID:SchoolNow
CALSCALE:GREGORIAN
BEGIN:VEVENT
UID:00d2b59c-08aa-11ef-9dd8-0a58a9feac02
DTSTAMP:20240502T173252Z
SUMMARY:End of year picnic/yearbooks
URL;VALUE=URI:https://www.hunterdonprep.org/calendar/5900770/end-of-year-pi
 cnic-yearbooks
DTSTART:20240611T140000Z
DTEND:20240611T180000Z
END:VEVENT
END:VCALENDAR
