BEGIN:VCALENDAR
VERSION:2.0
PRODID:SchoolNow
CALSCALE:GREGORIAN
BEGIN:VEVENT
UID:c0482408-08a9-11ef-a39f-0a58a9feac02
DTSTAMP:20240502T173104Z
SUMMARY:Nest bake sale
URL;VALUE=URI:https://www.hunterdonprep.org/calendar/5900769/nest-bake-sale
DTSTART:20240516T130000Z
DTEND:20240516T170000Z
END:VEVENT
END:VCALENDAR
