BEGIN:VCALENDAR
VERSION:2.0
PRODID:SchoolNow
CALSCALE:GREGORIAN
BEGIN:VEVENT
UID:6c84deac-017d-11ef-8b98-0a58a9feac02
DTSTAMP:20240423T142607Z
SUMMARY:Nest class trip
URL;VALUE=URI:https://www.hunterdonprep.org/calendar/5842543/nest-class-tri
 p
DTSTART:20240612T130000Z
DTEND:20240612T170000Z
END:VEVENT
END:VCALENDAR
