BEGIN:VCALENDAR
VERSION:2.0
PRODID:SchoolNow
CALSCALE:GREGORIAN
BEGIN:VEVENT
UID:557ab768-017d-11ef-8e72-0afffde6f289
DTSTAMP:20240423T142528Z
SUMMARY:Awards ceremony
URL;VALUE=URI:https://www.hunterdonprep.org/calendar/5842542/awards-ceremon
 y
DTSTART:20240605T170000Z
DTEND:20240605T180000Z
END:VEVENT
END:VCALENDAR
