BEGIN:VCALENDAR
VERSION:2.0
PRODID:SchoolNow
CALSCALE:GREGORIAN
BEGIN:VEVENT
UID:3825bc44-017d-11ef-9a42-02dfa00ca183
DTSTAMP:20240423T142439Z
SUMMARY:End of year concert (1 PM and 6:30 PM)
URL;VALUE=URI:https://www.hunterdonprep.org/calendar/5842541/end-of-year-co
 ncert-1-pm-and-6-30-pm
DTSTART:20240523T170000Z
DTEND:20240523T180000Z
END:VEVENT
END:VCALENDAR
