BEGIN:VCALENDAR
VERSION:2.0
PRODID:SchoolNow
CALSCALE:GREGORIAN
BEGIN:VEVENT
UID:284fbc02-017d-11ef-9f44-0affd0371aa3
DTSTAMP:20240423T142413Z
SUMMARY:Concert rehearsal (2:30-6:30)
URL;VALUE=URI:https://www.hunterdonprep.org/calendar/5842540/concert-rehear
 sal-2-30-6-30
DTSTART:20240521T183000Z
DTEND:20240521T223000Z
END:VEVENT
END:VCALENDAR
