BEGIN:VCALENDAR
VERSION:2.0
PRODID:SchoolNow
CALSCALE:GREGORIAN
BEGIN:VEVENT
UID:0272a968-017d-11ef-a22e-0a58a9feac02
DTSTAMP:20240423T142309Z
SUMMARY:Hive homeroom trip
URL;VALUE=URI:https://www.hunterdonprep.org/calendar/5842539/hive-homeroom-
 trip
DTSTART;VALUE=DATE:20240514
DTEND;VALUE=DATE:20240515
END:VEVENT
END:VCALENDAR
