BEGIN:VCALENDAR
VERSION:2.0
PRODID:SchoolNow
CALSCALE:GREGORIAN
BEGIN:VEVENT
UID:3867f8e4-017c-11ef-bcbc-0a58a9feac02
DTSTAMP:20240423T141730Z
SUMMARY:3rd marking period Honor Roll luncheon
URL;VALUE=URI:https://www.hunterdonprep.org/calendar/5842537/3rd-marking-pe
 riod-honor-roll-luncheon
DTSTART:20240501T162500Z
DTEND:20240501T172500Z
END:VEVENT
END:VCALENDAR
