BEGIN:VCALENDAR
VERSION:2.0
PRODID:SchoolNow
CALSCALE:GREGORIAN
BEGIN:VEVENT
UID:ca9cf094-017b-11ef-bbd5-0a58a9feac02
DTSTAMP:20240423T141426Z
SUMMARY:Troupe ice cream sale
URL;VALUE=URI:https://www.hunterdonprep.org/calendar/5842536/troupe-ice-cre
 am-sale
DTSTART:20240429T162500Z
DTEND:20240429T172500Z
END:VEVENT
END:VCALENDAR
