BEGIN:VCALENDAR
VERSION:2.0
PRODID:SchoolNow
CALSCALE:GREGORIAN
BEGIN:VEVENT
UID:56090ace-017b-11ef-aac7-0a58a9feac02
DTSTAMP:20240423T142229Z
SUMMARY:Hive pizza sale ($3/slice or two for $5)
URL;VALUE=URI:https://www.hunterdonprep.org/calendar/5842535/hive-pizza-sal
 e-3-00-slice-or-two-for-5-00
DTSTART:20240424T162500Z
DTEND:20240424T172500Z
END:VEVENT
END:VCALENDAR
