BEGIN:VCALENDAR
VERSION:2.0
PRODID:SchoolNow
CALSCALE:GREGORIAN
BEGIN:VEVENT
UID:3fa7f3b2-017b-11ef-a592-0a58a9feac02
DTSTAMP:20240423T141033Z
SUMMARY:After school club (paint party)
URL;VALUE=URI:https://www.hunterdonprep.org/calendar/5842534/after-school-c
 lub-paint-party
DTSTART:20240430T183000Z
DTEND:20240430T203000Z
END:VEVENT
END:VCALENDAR
