BEGIN:VCALENDAR
VERSION:2.0
PRODID:SchoolNow
CALSCALE:GREGORIAN
BEGIN:VEVENT
UID:2dc9805c-017b-11ef-9c14-0a58a9feac02
DTSTAMP:20240423T141003Z
SUMMARY:After school club (Legos)
URL;VALUE=URI:https://www.hunterdonprep.org/calendar/5842533/after-school-c
 lub-legos
DTSTART:20240423T183000Z
DTEND:20240423T203000Z
END:VEVENT
END:VCALENDAR
