BEGIN:VCALENDAR
VERSION:2.0
PRODID:SchoolNow
CALSCALE:GREGORIAN
BEGIN:VEVENT
UID:3d3746c6-ec51-11ee-ba04-0a58a9feac02
DTSTAMP:20240327T154716Z
SUMMARY:NJSLA testing begins (4/29 - 5/3/24)
URL;VALUE=URI:https://www.hunterdonprep.org/calendar/5643768/njsla-testing-
 begins-4-29
DTSTART;VALUE=DATE:20240429
DTEND;VALUE=DATE:20240504
END:VEVENT
END:VCALENDAR
