BEGIN:VCALENDAR
VERSION:2.0
PRODID:SchoolNow
CALSCALE:GREGORIAN
BEGIN:VEVENT
UID:f2afd65e-ec50-11ee-9c75-0a58a9feac02
DTSTAMP:20240327T154450Z
SUMMARY:Alice Paul Institute field trip (9:00-3:30)
URL;VALUE=URI:https://www.hunterdonprep.org/calendar/5643767/alice-paul-ins
 titute-field-trip-9-00-3-30
DTSTART:20240417T130000Z
DTEND:20240417T193000Z
END:VEVENT
END:VCALENDAR
