BEGIN:VCALENDAR
VERSION:2.0
PRODID:SchoolNow
CALSCALE:GREGORIAN
BEGIN:VEVENT
UID:01403f8a-dd7c-11ee-b9d3-0ee43cd74bc9
DTSTAMP:20240308T184516Z
SUMMARY:Junior & Senior Prom
URL;VALUE=URI:https://www.hunterdonprep.org/calendar/5496909/junior-senior-
 prom
DTSTART:20240531T220000Z
DTEND:20240601T020000Z
END:VEVENT
END:VCALENDAR
