BEGIN:VCALENDAR
VERSION:2.0
PRODID:SchoolNow
CALSCALE:GREGORIAN
BEGIN:VEVENT
UID:e0d8ae1c-dd7b-11ee-a0a2-0affe907dcef
DTSTAMP:20240308T184421Z
SUMMARY:Hive homeroom breakfast sale (AM & lunch)
URL;VALUE=URI:https://www.hunterdonprep.org/calendar/5496908/hive-homeroom-
 breakfast-sale-am-lunch
DTSTART:20240322T130000Z
DTEND:20240322T160000Z
END:VEVENT
END:VCALENDAR
