BEGIN:VCALENDAR
VERSION:2.0
PRODID:SchoolNow
CALSCALE:GREGORIAN
BEGIN:VEVENT
UID:c4363a72-dd7b-11ee-ae67-0affdbbeb841
DTSTAMP:20240308T184333Z
SUMMARY:School picture make-up day
URL;VALUE=URI:https://www.hunterdonprep.org/calendar/5496907/school-picture
 -make-up-day
DTSTART:20240314T130500Z
DTEND:20240314T140500Z
END:VEVENT
END:VCALENDAR
