BEGIN:VCALENDAR
VERSION:2.0
PRODID:SchoolNow
CALSCALE:GREGORIAN
BEGIN:VEVENT
UID:640ae6cc-d1b7-11ee-b92b-0ea60e2d450b
DTSTAMP:20240222T192008Z
SUMMARY:After school & art clubs meet
URL;VALUE=URI:https://www.hunterdonprep.org/calendar/5383291/after-school-a
 rt-clubs-meet
DTSTART:20240326T183000Z
DTEND:20240326T203000Z
END:VEVENT
END:VCALENDAR
