BEGIN:VCALENDAR
VERSION:2.0
PRODID:SchoolNow
CALSCALE:GREGORIAN
BEGIN:VEVENT
UID:58d6bc0e-d1b7-11ee-9d71-0a58a9feac02
DTSTAMP:20240222T191949Z
SUMMARY:After school & art clubs meet
URL;VALUE=URI:https://www.hunterdonprep.org/calendar/5383290/after-school-a
 rt-clubs-meet
DTSTART:20240319T183000Z
DTEND:20240319T203000Z
END:VEVENT
END:VCALENDAR
