BEGIN:VCALENDAR
VERSION:2.0
PRODID:SchoolNow
CALSCALE:GREGORIAN
BEGIN:VEVENT
UID:458619b0-d1b7-11ee-8d16-0ea60e2d450b
DTSTAMP:20240222T191917Z
SUMMARY:After school & art clubs meet
URL;VALUE=URI:https://www.hunterdonprep.org/calendar/5383289/after-school-a
 rt-clubs-meet
DTSTART:20240312T183000Z
DTEND:20240312T203000Z
END:VEVENT
END:VCALENDAR
