BEGIN:VCALENDAR
VERSION:2.0
PRODID:SchoolNow
CALSCALE:GREGORIAN
BEGIN:VEVENT
UID:2ccf09cc-d1b7-11ee-9a07-0ae4f226ceb1
DTSTAMP:20240222T191835Z
SUMMARY:After school & art clubs meet
URL;VALUE=URI:https://www.hunterdonprep.org/calendar/5383288/after-school-a
 rt-clubs-meet
DTSTART:20240305T193000Z
DTEND:20240305T213000Z
END:VEVENT
END:VCALENDAR
