BEGIN:VCALENDAR
VERSION:2.0
PRODID:SchoolNow
CALSCALE:GREGORIAN
BEGIN:VEVENT
UID:1ea82e78-d1b7-11ee-a355-0a58a9feac02
DTSTAMP:20240222T191853Z
SUMMARY:After school & art clubs meet
URL;VALUE=URI:https://www.hunterdonprep.org/calendar/5383287/after-school-a
 rt-clubs-meet
DTSTART:20240227T193000Z
DTEND:20240227T213000Z
END:VEVENT
END:VCALENDAR
