BEGIN:VCALENDAR
VERSION:2.0
PRODID:SchoolNow
CALSCALE:GREGORIAN
BEGIN:VEVENT
UID:04ec6968-d1b7-11ee-87dd-0a58a9feac02
DTSTAMP:20240222T191728Z
SUMMARY:Edison College trip
URL;VALUE=URI:https://www.hunterdonprep.org/calendar/5383286/edison-college
 -trip
DTSTART:20240306T140500Z
DTEND:20240306T170500Z
END:VEVENT
END:VCALENDAR
