BEGIN:VCALENDAR
VERSION:2.0
PRODID:SchoolNow
CALSCALE:GREGORIAN
BEGIN:VEVENT
UID:d4a057a6-d1b6-11ee-b074-0a58a9feac02
DTSTAMP:20240222T191607Z
SUMMARY:Constitution Center Trip
URL;VALUE=URI:https://www.hunterdonprep.org/calendar/5383285/constitution-c
 enter-trip
DTSTART:20240515T130000Z
DTEND:20240515T183000Z
END:VEVENT
END:VCALENDAR
