BEGIN:VCALENDAR
VERSION:2.0
PRODID:SchoolNow
CALSCALE:GREGORIAN
BEGIN:VEVENT
UID:75d36182-d1b6-11ee-a05a-0a58a9feac02
DTSTAMP:20240222T191328Z
SUMMARY:Raptor Trust assembly program
URL;VALUE=URI:https://www.hunterdonprep.org/calendar/5383283/raptor-trust-a
 ssembly-program
DTSTART:20240510T150500Z
DTEND:20240510T160500Z
END:VEVENT
END:VCALENDAR
