BEGIN:VCALENDAR
VERSION:2.0
PRODID:SchoolNow
CALSCALE:GREGORIAN
BEGIN:VEVENT
UID:64a9abbe-d1b6-11ee-a366-0a58a9feac02
DTSTAMP:20240508T135655Z
SUMMARY:Earth Day campus activities
URL;VALUE=URI:https://www.hunterdonprep.org/calendar/5383282/earth-day-camp
 us-activities
DTSTART:20240516T161500Z
DTEND:20240516T181500Z
END:VEVENT
END:VCALENDAR
