BEGIN:VCALENDAR
VERSION:2.0
PRODID:SchoolNow
CALSCALE:GREGORIAN
BEGIN:VEVENT
UID:428f67f8-d1b6-11ee-b258-0a58a9feac02
DTSTAMP:20240222T191202Z
SUMMARY:Trip to NYC to see "& Juliet"
URL;VALUE=URI:https://www.hunterdonprep.org/calendar/5383281/trip-to-nyc-to
 -see-juliet
DTSTART:20240508T140000Z
DTEND:20240508T210000Z
END:VEVENT
END:VCALENDAR
