BEGIN:VCALENDAR
VERSION:2.0
PRODID:SchoolNow
CALSCALE:GREGORIAN
BEGIN:VEVENT
UID:14686690-d1b6-11ee-a417-0a58a9feac02
DTSTAMP:20240222T191045Z
SUMMARY:Young Artist Showcase at Clinton Art Museum
URL;VALUE=URI:https://www.hunterdonprep.org/calendar/5383280/young-artist-s
 howcase-at-clinton-art-museum
DTSTART:20240420T170000Z
DTEND:20240420T180000Z
END:VEVENT
END:VCALENDAR
