BEGIN:VCALENDAR
VERSION:2.0
PRODID:SchoolNow
CALSCALE:GREGORIAN
BEGIN:VEVENT
UID:e6b917d0-d1b5-11ee-aaf4-0a58a9feac02
DTSTAMP:20240222T190928Z
SUMMARY:MET Museum trip
URL;VALUE=URI:https://www.hunterdonprep.org/calendar/5383278/met-museum-tri
 p
DTSTART:20240425T130000Z
DTEND:20240425T210000Z
END:VEVENT
END:VCALENDAR
