BEGIN:VCALENDAR
VERSION:2.0
PRODID:SchoolNow
CALSCALE:GREGORIAN
BEGIN:VEVENT
UID:cba94a50-d1b5-11ee-b0c6-0a814872a3c5
DTSTAMP:20240222T190843Z
SUMMARY:School closed for spring break (March 29 - April 5)
URL;VALUE=URI:https://www.hunterdonprep.org/calendar/5383277/school-closed-
 for-spring-break-march-29-april-5
DTSTART;VALUE=DATE:20240329
DTEND;VALUE=DATE:20240406
END:VEVENT
END:VCALENDAR
