BEGIN:VCALENDAR
VERSION:2.0
PRODID:SchoolNow
CALSCALE:GREGORIAN
BEGIN:VEVENT
UID:ab4d9a86-d1b5-11ee-9355-0ea60e2d450b
DTSTAMP:20240327T154317Z
SUMMARY:Spring Fling concert rehearsal (2:30-6:30 PM)
URL;VALUE=URI:https://www.hunterdonprep.org/calendar/5383276/spring-fling-c
 oncert-rehearsal-2-30-6-30-pm
DTSTART:20240327T183000Z
DTEND:20240327T223000Z
END:VEVENT
END:VCALENDAR
