BEGIN:VCALENDAR
VERSION:2.0
PRODID:SchoolNow
CALSCALE:GREGORIAN
BEGIN:VEVENT
UID:6e32bf96-d1b5-11ee-80f5-0e4b7769fa37
DTSTAMP:20240222T190606Z
SUMMARY:Spring Fling (concert & dance)
URL;VALUE=URI:https://www.hunterdonprep.org/calendar/5383274/spring-fling-c
 oncert-dance
DTSTART:20240328T170500Z
DTEND:20240328T180500Z
END:VEVENT
END:VCALENDAR
