BEGIN:VCALENDAR
VERSION:2.0
PRODID:SchoolNow
CALSCALE:GREGORIAN
BEGIN:VEVENT
UID:2dc843f4-d1b5-11ee-a835-0a58a9feac02
DTSTAMP:20240222T190418Z
SUMMARY:Therapy dog meet & greet
URL;VALUE=URI:https://www.hunterdonprep.org/calendar/5383273/therapy-dog-me
 et-greet
DTSTART:20240327T170500Z
DTEND:20240327T180500Z
END:VEVENT
END:VCALENDAR
