BEGIN:VCALENDAR
VERSION:2.0
PRODID:SchoolNow
CALSCALE:GREGORIAN
BEGIN:VEVENT
UID:1abba8aa-d1b5-11ee-b662-0a58a9feac02
DTSTAMP:20240222T190346Z
SUMMARY:Cave (senior class) donut sale
URL;VALUE=URI:https://www.hunterdonprep.org/calendar/5383272/cave-senior-cl
 ass-donut-sale
DTSTART:20240313T123000Z
DTEND:20240313T133000Z
END:VEVENT
END:VCALENDAR
