BEGIN:VCALENDAR
VERSION:2.0
PRODID:SchoolNow
CALSCALE:GREGORIAN
BEGIN:VEVENT
UID:0610a432-d1b5-11ee-9b27-020d0c16b27f
DTSTAMP:20240222T190311Z
SUMMARY:Youth Art Month (YAM) Draw Big event
URL;VALUE=URI:https://www.hunterdonprep.org/calendar/5383271/youth-art-mont
 h-yam-draw-big-event
DTSTART:20240307T144000Z
DTEND:20240307T160500Z
END:VEVENT
END:VCALENDAR
