BEGIN:VCALENDAR
VERSION:2.0
PRODID:SchoolNow
CALSCALE:GREGORIAN
BEGIN:VEVENT
UID:d3583d7a-d1b4-11ee-8408-0a58a9feac02
DTSTAMP:20240222T190146Z
SUMMARY:Snow tubing trip to Shawnee
URL;VALUE=URI:https://www.hunterdonprep.org/calendar/5383270/snow-tubing-tr
 ip-to-shawnee
DTSTART:20240229T190000Z
DTEND:20240301T020000Z
END:VEVENT
END:VCALENDAR
