BEGIN:VCALENDAR
VERSION:2.0
PRODID:SchoolNow
CALSCALE:GREGORIAN
BEGIN:VEVENT
UID:744fa28e-c514-11ee-8f49-0a58a9feac02
DTSTAMP:20240206T172333Z
SUMMARY:Therapy dogs meet & greet
URL;VALUE=URI:https://www.hunterdonprep.org/calendar/5273232/therapy-dogs-m
 eet-greet
DTSTART:20240221T180500Z
DTEND:20240221T190500Z
END:VEVENT
END:VCALENDAR
