BEGIN:VCALENDAR
VERSION:2.0
PRODID:SchoolNow
CALSCALE:GREGORIAN
BEGIN:VEVENT
UID:5ca33c5e-c514-11ee-8f4b-0ae2eb051371
DTSTAMP:20240206T172253Z
SUMMARY:2nd marking period honor roll luncheon
URL;VALUE=URI:https://www.hunterdonprep.org/calendar/5273231/2nd-marking-pe
 riod-honor-roll-luncheon
DTSTART:20240223T172500Z
DTEND:20240223T182500Z
END:VEVENT
END:VCALENDAR
