BEGIN:VCALENDAR
VERSION:2.0
PRODID:SchoolNow
CALSCALE:GREGORIAN
BEGIN:VEVENT
UID:5000ef1e-c514-11ee-a63e-0a58a9feac02
DTSTAMP:20240206T172232Z
SUMMARY:Hive pizza sale ($3.00 for one slice/$5.00 for two)
URL;VALUE=URI:https://www.hunterdonprep.org/calendar/5273230/hive-pizza-sal
 e-3-00-for-one-slice-5-00-for-two
DTSTART:20240228T172500Z
DTEND:20240228T182500Z
END:VEVENT
END:VCALENDAR
