BEGIN:VCALENDAR
VERSION:2.0
PRODID:SchoolNow
CALSCALE:GREGORIAN
BEGIN:VEVENT
UID:cb6ab1ae-c513-11ee-953a-0ae2eb051371
DTSTAMP:20240206T171850Z
SUMMARY:Alice Paul Institute field trip
URL;VALUE=URI:https://www.hunterdonprep.org/calendar/5273229/alice-paul-ins
 titute-field-trip
DTSTART:20240320T130000Z
DTEND:20240320T193000Z
END:VEVENT
END:VCALENDAR
