BEGIN:VCALENDAR
VERSION:2.0
PRODID:SchoolNow
CALSCALE:GREGORIAN
BEGIN:VEVENT
UID:b44c81fa-c513-11ee-8fa1-0a58a9feac02
DTSTAMP:20240206T171811Z
SUMMARY:Stoutsburg Sourland African American Museum field trip
URL;VALUE=URI:https://www.hunterdonprep.org/calendar/5273228/stoutsburg-sou
 rland-african-american-museum-field-trip
DTSTART:20240306T140000Z
DTEND:20240306T180000Z
END:VEVENT
END:VCALENDAR
