BEGIN:VCALENDAR
VERSION:2.0
PRODID:SchoolNow
CALSCALE:GREGORIAN
BEGIN:VEVENT
UID:6083df5a-bad2-11ee-a481-0ea5a4e67a87
DTSTAMP:20240124T160522Z
SUMMARY:Early dismissal for students at 12:30
URL;VALUE=URI:https://www.hunterdonprep.org/calendar/5203074/early-dismissa
 l-for-students-at-12-30
DTSTART:20240322T163000Z
DTEND:20240322T173000Z
END:VEVENT
END:VCALENDAR
