BEGIN:VCALENDAR
VERSION:2.0
PRODID:SchoolNow
CALSCALE:GREGORIAN
BEGIN:VEVENT
UID:53342468-bad2-11ee-a4e5-02e0b1f73243
DTSTAMP:20240124T160459Z
SUMMARY:Spring Open House (for parents of current students)
URL;VALUE=URI:https://www.hunterdonprep.org/calendar/5203073/spring-open-ho
 use-for-parents-of-current-students
DTSTART:20240321T230000Z
DTEND:20240322T010000Z
END:VEVENT
END:VCALENDAR
