BEGIN:VCALENDAR
VERSION:2.0
PRODID:SchoolNow
CALSCALE:GREGORIAN
BEGIN:VEVENT
UID:32fb347a-bad2-11ee-b484-0a58a9feac02
DTSTAMP:20240124T160405Z
SUMMARY:Ski/snow boarding trip to Shawnee Mountain
URL;VALUE=URI:https://www.hunterdonprep.org/calendar/5203072/ski-snow-board
 ing-trip-to-shawnee-mountain
DTSTART:20240208T190000Z
DTEND:20240209T020000Z
END:VEVENT
END:VCALENDAR
