BEGIN:VCALENDAR
VERSION:2.0
PRODID:SchoolNow
CALSCALE:GREGORIAN
BEGIN:VEVENT
UID:3cbc898e-b620-11ee-81f1-0a705a7259c1
DTSTAMP:20240118T164006Z
SUMMARY:Valentine's concert
URL;VALUE=URI:https://www.hunterdonprep.org/calendar/5173986/valentines-con
 cert
DTSTART:20240214T180000Z
DTEND:20240214T190000Z
END:VEVENT
END:VCALENDAR
