BEGIN:VCALENDAR
VERSION:2.0
PRODID:SchoolNow
CALSCALE:GREGORIAN
BEGIN:VEVENT
UID:2e280fba-b620-11ee-891d-02decc6e9f75
DTSTAMP:20240118T163942Z
SUMMARY:Valentine's concert rehearsal (2:30-6:30)
URL;VALUE=URI:https://www.hunterdonprep.org/calendar/5173985/valentines-con
 cert-rehearsal-2-30-6-30
DTSTART:20240212T193000Z
DTEND:20240212T233000Z
END:VEVENT
END:VCALENDAR
