BEGIN:VCALENDAR
VERSION:2.0
PRODID:SchoolNow
CALSCALE:GREGORIAN
BEGIN:VEVENT
UID:192bb3c8-b620-11ee-8ea6-0abea27433a9
DTSTAMP:20240118T163907Z
SUMMARY:Nest bake sale
URL;VALUE=URI:https://www.hunterdonprep.org/calendar/5173984/nest-bake-sale
DTSTART:20240214T140000Z
DTEND:20240214T180000Z
END:VEVENT
END:VCALENDAR
